BEGIN:VCALENDAR
VERSION:2.0
PRODID:-//南條由起　YUKI NANJO  - ECPv6.15.20//NONSGML v1.0//EN
CALSCALE:GREGORIAN
METHOD:PUBLISH
X-ORIGINAL-URL:https://yukinanjo.com
X-WR-CALDESC:南條由起　YUKI NANJO  のイベント
REFRESH-INTERVAL;VALUE=DURATION:PT1H
X-Robots-Tag:noindex
X-PUBLISHED-TTL:PT1H
BEGIN:VTIMEZONE
TZID:Asia/Tokyo
BEGIN:STANDARD
TZOFFSETFROM:+0900
TZOFFSETTO:+0900
TZNAME:JST
DTSTART:20170101T000000
END:STANDARD
END:VTIMEZONE
BEGIN:VEVENT
DTSTART;TZID=Asia/Tokyo:20200418T100000
DTEND;TZID=Asia/Tokyo:20200418T163000
DTSTAMP:20260425T120958
CREATED:20200213T032139Z
LAST-MODIFIED:20200227T122606Z
UID:1190-1587204000-1587227400@yukinanjo.com
SUMMARY:Music & Arts Garden 春の芸術祭2020
DESCRIPTION:午前の部　10:00-11:45 オルゴールのワークショップと、リラックスコンサート\nhttps://ma2020spring1.peatix.com/  \n午後の部　13:30-16:30 ワークショップ・コンサートと、インクルージョンについて考えるワークショップ https://ma2020spring2.peatix.com/ \n  \n 
URL:https://yukinanjo.com/schedule/music-arts-garden-%e6%98%a5%e3%81%ae%e8%8a%b8%e8%a1%93%e7%a5%ad2020
LOCATION:小黒恵子童謡記念館
CATEGORIES:Live, Concert
ATTACH;FMTTYPE=image/jpeg:https://yukinanjo.com/taiyo/c598cf210115a3cd9f8abb49e6522045-scaled.jpg
END:VEVENT
BEGIN:VEVENT
DTSTART;TZID=Asia/Tokyo:20200411T190000
DTEND;TZID=Asia/Tokyo:20200411T203000
DTSTAMP:20260425T120958
CREATED:20200227T120745Z
LAST-MODIFIED:20200313T022350Z
UID:1213-1586631600-1586637000@yukinanjo.com
SUMMARY:《開催中止》Lコンサート　弦楽器とピアノで楽しむ名曲の庭さんぽ
DESCRIPTION:
URL:https://yukinanjo.com/schedule/l%e3%82%b3%e3%83%b3%e3%82%b5%e3%83%bc%e3%83%88%e3%80%80%e5%bc%a6%e6%a5%bd%e5%99%a8%e3%81%a8%e3%83%94%e3%82%a2%e3%83%8e%e3%81%a7%e6%a5%bd%e3%81%97%e3%82%80%e5%90%8d%e6%9b%b2%e3%81%ae%e5%ba%ad%e3%81%95
LOCATION:足立区梅田地域学習センター\, 足立区梅田七丁目33番1号\, 123-0851
CATEGORIES:Live, Concert
ATTACH;FMTTYPE=image/jpeg:https://yukinanjo.com/taiyo/c6d1fa45d9c258ddd69193bd0ccc4302-1.jpg
END:VEVENT
BEGIN:VEVENT
DTSTART;TZID=Asia/Tokyo:20190907T100000
DTEND;TZID=Asia/Tokyo:20190907T233000
DTSTAMP:20260425T120958
CREATED:20190703T154203Z
LAST-MODIFIED:20190705T070803Z
UID:1134-1567850400-1567899000@yukinanjo.com
SUMMARY:すてきな音楽サロン　ワークショップ・コンサート　展覧会シリーズvol.1 ミュシャとチェコの音楽　
DESCRIPTION:
URL:https://yukinanjo.com/schedule/%e3%81%99%e3%81%a6%e3%81%8d%e3%81%aa%e9%9f%b3%e6%a5%bd%e3%82%b5%e3%83%ad%e3%83%b31
CATEGORIES:Live, Concert
END:VEVENT
BEGIN:VEVENT
DTSTART;TZID=Asia/Tokyo:20190622T140000
DTEND;TZID=Asia/Tokyo:20190622T160000
DTSTAMP:20260425T120958
CREATED:20190413T134225Z
LAST-MODIFIED:20190413T134225Z
UID:1104-1561212000-1561219200@yukinanjo.com
SUMMARY:詩人小黒恵子が旅した世界～音楽と朗読とともに～
DESCRIPTION:
URL:https://yukinanjo.com/schedule/%e8%a9%a9%e4%ba%ba%e5%b0%8f%e9%bb%92%e6%81%b5%e5%ad%90%e3%81%8c%e6%97%85%e3%81%97%e3%81%9f%e4%b8%96%e7%95%8c%ef%bd%9e%e9%9f%b3%e6%a5%bd%e3%81%a8%e6%9c%97%e8%aa%ad%e3%81%a8%e3%81%a8%e3%82%82%e3%81%ab
LOCATION:アミーゴ\, 埼玉県入間市仏子766-1
END:VEVENT
BEGIN:VEVENT
DTSTART;TZID=Asia/Tokyo:20190504T130000
DTEND;TZID=Asia/Tokyo:20190504T134500
DTSTAMP:20260425T120958
CREATED:20190413T133515Z
LAST-MODIFIED:20190413T135114Z
UID:1101-1556974800-1556977500@yukinanjo.com
SUMMARY:水戸芸術館　オルガン・プロムナード・コンサート
DESCRIPTION:<出演>\nオルガン/ 川越聡子\nヴァイオリン/　南條由起 \n<演奏曲>\nJ.S.バッハ　G線上のアリア\nクライスラー　前奏曲とアレグロ\n他 \nこちらもご覧ください♪　
URL:https://yukinanjo.com/schedule/%e6%b0%b4%e6%88%b8%e8%8a%b8%e8%a1%93%e9%a4%a8%e3%80%80%e3%82%aa%e3%83%ab%e3%82%ac%e3%83%b3%e3%83%bb%e3%83%97%e3%83%ad%e3%83%a0%e3%83%8a%e3%83%bc%e3%83%89%e3%83%bb%e3%82%b3%e3%83%b3%e3%82%b5%e3%83%bc
LOCATION:水戸芸術館\, 五軒町 1-6-8\, 水戸市\, 茨城県\, Japan
CATEGORIES:Live, Concert
END:VEVENT
BEGIN:VEVENT
DTSTART;TZID=Asia/Tokyo:20181123T110000
DTEND;TZID=Asia/Tokyo:20181123T153000
DTSTAMP:20260425T120958
CREATED:20181107T122123Z
LAST-MODIFIED:20181107T122123Z
UID:1066-1542970800-1542987000@yukinanjo.com
SUMMARY:五感で楽しむ大人の休日ヴァイオリンコンサート
DESCRIPTION:
URL:https://yukinanjo.com/schedule/%e4%ba%94%e6%84%9f%e3%81%a7%e6%a5%bd%e3%81%97%e3%82%80%e5%a4%a7%e4%ba%ba%e3%81%ae%e4%bc%91%e6%97%a5%e3%83%b4%e3%82%a1%e3%82%a4%e3%82%aa%e3%83%aa%e3%83%b3%e3%82%b3%e3%83%b3%e3%82%b5%e3%83%bc%e3%83%88
LOCATION:なごみ邸\, 緑区中山町21-1\, 横浜市
CATEGORIES:Live, Concert
END:VEVENT
BEGIN:VEVENT
DTSTART;TZID=Asia/Tokyo:20181021T181500
DTEND;TZID=Asia/Tokyo:20181021T193000
DTSTAMP:20260425T120958
CREATED:20181107T121721Z
LAST-MODIFIED:20181107T121721Z
UID:1064-1540145700-1540150200@yukinanjo.com
SUMMARY:被災支援チャリティー　ヴァイオリンコンサート
DESCRIPTION:
URL:https://yukinanjo.com/schedule/%e8%a2%ab%e7%81%bd%e6%94%af%e6%8f%b4%e3%83%81%e3%83%a3%e3%83%aa%e3%83%86%e3%82%a3%e3%83%bc%e3%80%80%e3%83%b4%e3%82%a1%e3%82%a4%e3%82%aa%e3%83%aa%e3%83%b3%e3%82%b3%e3%83%b3%e3%82%b5%e3%83%bc%e3%83%88
CATEGORIES:Live, Concert
END:VEVENT
BEGIN:VEVENT
DTSTART;TZID=Asia/Tokyo:20180819T170000
DTEND;TZID=Asia/Tokyo:20180819T190000
DTSTAMP:20260425T120958
CREATED:20180805T155348Z
LAST-MODIFIED:20180805T155348Z
UID:1040-1534698000-1534705200@yukinanjo.com
SUMMARY:山野さと子 スペシャルライブ「童謡とアニソンとヴァイオリン」
DESCRIPTION:ゲスト出演させていただきます。 \n \n 
URL:https://yukinanjo.com/schedule/%e5%b1%b1%e9%87%8e%e3%81%95%e3%81%a8%e5%ad%90-%e3%82%b9%e3%83%9a%e3%82%b7%e3%83%a3%e3%83%ab%e3%83%a9%e3%82%a4%e3%83%96%e3%80%8c%e7%ab%a5%e8%ac%a1%e3%81%a8%e3%82%a2%e3%83%8b%e3%82%bd%e3%83%b3%e3%81%a8
LOCATION:しんくうかん\, 東京都世田谷区代田5-30-35
CATEGORIES:Live, Concert
ATTACH;FMTTYPE=image/jpeg:https://yukinanjo.com/taiyo/5883a1a31e0baddf42f9f9880674464d-pdf.jpg
END:VEVENT
BEGIN:VEVENT
DTSTART;TZID=Asia/Tokyo:20180626T103000
DTEND;TZID=Asia/Tokyo:20180626T233000
DTSTAMP:20260425T120958
CREATED:20180402T063526Z
LAST-MODIFIED:20180402T063526Z
UID:975-1530009000-1530055800@yukinanjo.com
SUMMARY:アーリーバードコンサート～午前の調べ～ Op.4 「朝のモーツァルト」
DESCRIPTION:
URL:https://yukinanjo.com/schedule/%e3%82%a2%e3%83%bc%e3%83%aa%e3%83%bc%e3%83%90%e3%83%bc%e3%83%89%e3%82%b3%e3%83%b3%e3%82%b5%e3%83%bc%e3%83%88%ef%bd%9e%e5%8d%88%e5%89%8d%e3%81%ae%e8%aa%bf%e3%81%b9%ef%bd%9e-op-4-%e3%80%8c%e6%9c%9d
LOCATION:小黒恵子童謡記念館
CATEGORIES:Live, Concert
END:VEVENT
BEGIN:VEVENT
DTSTART;TZID=Asia/Tokyo:20180407T140000
DTEND;TZID=Asia/Tokyo:20180407T140000
DTSTAMP:20260425T120958
CREATED:20180402T063204Z
LAST-MODIFIED:20180402T063204Z
UID:971-1523109600-1523109600@yukinanjo.com
SUMMARY:なごみ邸「観桜会」プチサロンコンサート
DESCRIPTION:
URL:https://yukinanjo.com/schedule/%e3%81%aa%e3%81%94%e3%81%bf%e9%82%b8%e3%80%8c%e8%a6%b3%e6%a1%9c%e4%bc%9a%e3%80%8d%e3%83%97%e3%83%81%e3%82%b5%e3%83%ad%e3%83%b3%e3%82%b3%e3%83%b3%e3%82%b5%e3%83%bc%e3%83%88
LOCATION:なごみ邸\, 緑区中山町21-1\, 横浜市
CATEGORIES:Live, Concert
END:VEVENT
BEGIN:VEVENT
DTSTART;TZID=Asia/Tokyo:20180401T133000
DTEND;TZID=Asia/Tokyo:20180401T150000
DTSTAMP:20260425T120958
CREATED:20180311T131106Z
LAST-MODIFIED:20180311T131106Z
UID:947-1522589400-1522594800@yukinanjo.com
SUMMARY:かわさきうたのパレット
DESCRIPTION:小黒恵子童謡記念館リニューアル一周年　特別コンサート「かわさきうたのパレット」 \n出演: 新井ちほ (ソプラノ)、大森寿枝(ソプラノ)、公文理恵(ソプラノ)、笹子まさえ (アルト) \n【Piano Trio ET PUIS】大室晃子(ピアノ)、南條由起(ヴァイオリン)、羽川恵子(チェロ)は、サポート出演します。\n(※サポート演奏のため、トリオだけの演奏はございません)
URL:https://yukinanjo.com/schedule/%e3%81%8b%e3%82%8f%e3%81%95%e3%81%8d%e3%81%86%e3%81%9f%e3%81%ae%e3%83%91%e3%83%ac%e3%83%83%e3%83%88
LOCATION:小黒恵子童謡記念館
CATEGORIES:Live, Concert
END:VEVENT
BEGIN:VEVENT
DTSTART;TZID=Asia/Tokyo:20180327T103000
DTEND;TZID=Asia/Tokyo:20180327T233000
DTSTAMP:20260425T120958
CREATED:20180105T051637Z
LAST-MODIFIED:20180105T052750Z
UID:866-1522146600-1522193400@yukinanjo.com
SUMMARY:アーリーバードコンサート Op.3
DESCRIPTION:
URL:https://yukinanjo.com/schedule/%e3%82%a2%e3%83%bc%e3%83%aa%e3%83%bc%e3%83%90%e3%83%bc%e3%83%89%e3%82%b3%e3%83%b3%e3%82%b5%e3%83%bc%e3%83%88-op-3
CATEGORIES:Live, Concert
END:VEVENT
BEGIN:VEVENT
DTSTART;TZID=Asia/Tokyo:20180121T153000
DTEND;TZID=Asia/Tokyo:20180121T160000
DTSTAMP:20260425T120958
CREATED:20171229T153848Z
LAST-MODIFIED:20171229T153848Z
UID:857-1516548600-1516550400@yukinanjo.com
SUMMARY:小黒恵子童謡記念館ミニコンサート
DESCRIPTION:出演　南條由起 (Violin) & 大室晃子 (Piano)
URL:https://yukinanjo.com/schedule/%e5%b0%8f%e9%bb%92%e6%81%b5%e5%ad%90%e7%ab%a5%e8%ac%a1%e8%a8%98%e5%bf%b5%e9%a4%a8%e3%83%9f%e3%83%8b%e3%82%b3%e3%83%b3%e3%82%b5%e3%83%bc%e3%83%88
LOCATION:小黒恵子童謡記念館
CATEGORIES:Live, Concert
END:VEVENT
BEGIN:VEVENT
DTSTART;TZID=Asia/Tokyo:20180114T140000
DTEND;TZID=Asia/Tokyo:20180114T144000
DTSTAMP:20260425T120958
CREATED:20171229T143048Z
LAST-MODIFIED:20171229T153544Z
UID:851-1515938400-1515940800@yukinanjo.com
SUMMARY:作品展オープニングコンサート
DESCRIPTION:
URL:https://yukinanjo.com/schedule/20180114
CATEGORIES:Live, Concert
END:VEVENT
END:VCALENDAR